BEGIN:VCALENDAR
VERSION:2.0
PRODID:-//WIDC - ECPv6.0.3.1//NONSGML v1.0//EN
CALSCALE:GREGORIAN
METHOD:PUBLISH
X-WR-CALNAME:WIDC
X-ORIGINAL-URL:https://www.widc.ca
X-WR-CALDESC:Events for WIDC
REFRESH-INTERVAL;VALUE=DURATION:PT1H
X-Robots-Tag:noindex
X-PUBLISHED-TTL:PT1H
BEGIN:VTIMEZONE
TZID:America/Vancouver
BEGIN:DAYLIGHT
TZOFFSETFROM:-0800
TZOFFSETTO:-0700
TZNAME:PDT
DTSTART:20250309T100000
END:DAYLIGHT
BEGIN:STANDARD
TZOFFSETFROM:-0700
TZOFFSETTO:-0800
TZNAME:PST
DTSTART:20251102T090000
END:STANDARD
END:VTIMEZONE
BEGIN:VEVENT
DTSTART;VALUE=DATE:20250328
DTEND;VALUE=DATE:20250329
DTSTAMP:20260421T194235
CREATED:20211220T083346Z
LAST-MODIFIED:20250320T010045Z
UID:5692-1743120000-1743206399@www.widc.ca
SUMMARY:Deadline: WIDC Advantage Award (alumni only)
DESCRIPTION:This WIDC Award offers a one-year mentorship including 12 x 1-hour coaching sessions\, a spot at either Story & Leadership or the Career Advancement Module (recipient’s choice)\, plus WIDC’s partner nomination for Telefilm Talent to Watch program funding. \nThe intended outcome of this Program [Telefilm Talent to Watch] is to discover and develop the next generation of Canadian filmmakers\, and to allow them to establish their voice and sensibility through a first feature. \nAs determined by the CWWA Board\, all WIDC Director alumni are eligible to apply for this Award. For application criteria see WIDC and Telefilm Canada (Talent to Watch Program).
URL:https://www.widc.ca/event/widc-advantage-award-alumnae-only/
CATEGORIES:WIDC Awards
ATTACH;FMTTYPE=image/jpeg:https://www.widc.ca/wp-content/uploads/2024/01/WIDC-ADVANTAGE-AWARD-logo-scaled-e1706486514923.jpg
END:VEVENT
END:VCALENDAR